BEGIN:VCALENDAR
VERSION:2.0
PRODID:-// - ECPv6.15.16//NONSGML v1.0//EN
CALSCALE:GREGORIAN
METHOD:PUBLISH
X-ORIGINAL-URL:https://holisticwellnessanddetox.com
X-WR-CALDESC:Events for 
REFRESH-INTERVAL;VALUE=DURATION:PT1H
X-Robots-Tag:noindex
X-PUBLISHED-TTL:PT1H
BEGIN:VTIMEZONE
TZID:UTC
BEGIN:STANDARD
TZOFFSETFROM:+0000
TZOFFSETTO:+0000
TZNAME:UTC
DTSTART:20240101T000000
END:STANDARD
END:VTIMEZONE
BEGIN:VEVENT
DTSTART;TZID=UTC:20251207T110000
DTEND;TZID=UTC:20251207T140000
DTSTAMP:20260424T232846
CREATED:20251007T135917Z
LAST-MODIFIED:20251020T162951Z
UID:2942-1765105200-1765116000@holisticwellnessanddetox.com
SUMMARY:The Joy of Reiki - A Group Reiki Healing Experience
DESCRIPTION:Build Your Reiki Healing Skills!\n  \nAll Levels of Reiki Practitioners are Welcome\nJoin us in a powerful group Reiki Experience.  Tap into Rei (Higher Power) Ki (Lifeforce Energy) and Raise Your Voltage! \nYou don’t want to miss this event.  The last one was AMAZING!!!  This is a fabulous opportunity to practice your healing skills and receive healing as well:) \n  \nFire Up Your Reiki Healing Practice On:\nDecember 7th from  11 am – 2PM \n  \nFor More Information Text:  843-597-0484  \nPresented by Reiki Master Janet Young
URL:https://holisticwellnessanddetox.com/event/the-joy-of-reiki-a-group-reiki-healing-experience/
LOCATION:Holistic Wellness Center\, 167 C Bluffton Road\, Bluffton\, SC\, 29910
ATTACH;FMTTYPE=image/jpeg:https://holisticwellnessanddetox.com/wp-content/uploads/2025/10/janet-joy-of-reiki.jpg
END:VEVENT
END:VCALENDAR