BEGIN:VCALENDAR
VERSION:2.0
PRODID:-// - ECPv6.15.16//NONSGML v1.0//EN
CALSCALE:GREGORIAN
METHOD:PUBLISH
X-ORIGINAL-URL:https://holisticwellnessanddetox.com
X-WR-CALDESC:Events for 
REFRESH-INTERVAL;VALUE=DURATION:PT1H
X-Robots-Tag:noindex
X-PUBLISHED-TTL:PT1H
BEGIN:VTIMEZONE
TZID:UTC
BEGIN:STANDARD
TZOFFSETFROM:+0000
TZOFFSETTO:+0000
TZNAME:UTC
DTSTART:20240101T000000
END:STANDARD
END:VTIMEZONE
BEGIN:VEVENT
DTSTART;TZID=UTC:20251210T103000
DTEND;TZID=UTC:20251210T113000
DTSTAMP:20260424T233318
CREATED:20251002T172522Z
LAST-MODIFIED:20251118T154343Z
UID:2886-1765362600-1765366200@holisticwellnessanddetox.com
SUMMARY:Chair Yoga with Carla
DESCRIPTION:Join Carla for a rejuvenating Chair Yoga Session!  \nPerfect for all levels\, this gentle practice enhances mobility\, builds strength\, and promotes relaxation—all from the comfort of a chair. \nEmbrace wellness with ease and grace! Cost is $20 for a one hour class. \nPlease bring a yoga mat if you have one. \n  \nPlease register above in advance!
URL:https://holisticwellnessanddetox.com/event/chair-yoga-with-carla-5/
LOCATION:Holistic Wellness Center\, 167 C Bluffton Road\, Bluffton\, SC\, 29910
ATTACH;FMTTYPE=image/jpeg:https://holisticwellnessanddetox.com/wp-content/uploads/2025/11/Carla-December.jpg
ORGANIZER;CN="Carla Guarnieri":MAILTO:carlamwbeach@yahoo.com
END:VEVENT
END:VCALENDAR