BEGIN:VCALENDAR
VERSION:2.0
PRODID:-// - ECPv6.15.16//NONSGML v1.0//EN
CALSCALE:GREGORIAN
METHOD:PUBLISH
X-ORIGINAL-URL:https://holisticwellnessanddetox.com
X-WR-CALDESC:Events for 
REFRESH-INTERVAL;VALUE=DURATION:PT1H
X-Robots-Tag:noindex
X-PUBLISHED-TTL:PT1H
BEGIN:VTIMEZONE
TZID:UTC
BEGIN:STANDARD
TZOFFSETFROM:+0000
TZOFFSETTO:+0000
TZNAME:UTC
DTSTART:20250101T000000
END:STANDARD
END:VTIMEZONE
BEGIN:VEVENT
DTSTART;TZID=UTC:20260104T130000
DTEND;TZID=UTC:20260104T150000
DTSTAMP:20260424T220013
CREATED:20260102T194444Z
LAST-MODIFIED:20260102T194444Z
UID:3367-1767531600-1767538800@holisticwellnessanddetox.com
SUMMARY:Wisdom & Healing Circle - “The Power of Storytelling” 
DESCRIPTION:This Month’s Theme: “The Power of Storytelling”  \nI warmly invite you to join this intimate sacred circle to cultivate wisdom\, healing\, and joyful connection. We speak our truth\, listen with compassion\, and allow insights to arise naturally.\n\n\nThis Month’s Theme: “The Power of Storytelling” Share life stories: surprising\, funny\, challenging\, synchronicities\, or whatever…to foster deeper connection.  Come to share/ or just listen/ and enjoy.  And bring a friend if you like!\n\nI offer a new soul-centered topic each meeting.  Whether you’re beginning or deepening your path\, come to be held in a community of caring and higher consciousness… I am devoted to supporting and cultivating your personal Enlightened Wellness Journey. Come to share your wisdom and healing! \n \nMeredith Zelman Narissi\, M.S.\, BCPP of Meredith’s Healing Arts…Enlightened Wellness\, is Board-Certified: A Holistic Spiritual Therapist\, Meditation/Yoga/Dance Teacher\, Kundalini Reiki Master and Author of  7 Veils: Mystical Secrets of a Feminine Path to Enlightenment.                                     \n516-456-7665            \nMeredithsHealingArts.com  
URL:https://holisticwellnessanddetox.com/event/wisdom-healing-circle-the-power-of-storytelling/
LOCATION:Holistic Wellness Center\, 167 C Bluffton Road\, Bluffton\, SC\, 29910
ATTACH;FMTTYPE=image/png:https://holisticwellnessanddetox.com/wp-content/uploads/2026/01/WHC-Story-Telling.png
END:VEVENT
END:VCALENDAR