BEGIN:VCALENDAR
VERSION:2.0
PRODID:-// - ECPv6.15.16//NONSGML v1.0//EN
CALSCALE:GREGORIAN
METHOD:PUBLISH
X-ORIGINAL-URL:https://holisticwellnessanddetox.com
X-WR-CALDESC:Events for 
REFRESH-INTERVAL;VALUE=DURATION:PT1H
X-Robots-Tag:noindex
X-PUBLISHED-TTL:PT1H
BEGIN:VTIMEZONE
TZID:UTC
BEGIN:STANDARD
TZOFFSETFROM:+0000
TZOFFSETTO:+0000
TZNAME:UTC
DTSTART:20250101T000000
END:STANDARD
END:VTIMEZONE
BEGIN:VEVENT
DTSTART;TZID=UTC:20260116T170000
DTEND;TZID=UTC:20260116T190000
DTSTAMP:20260424T220012
CREATED:20251118T205517Z
LAST-MODIFIED:20260105T125544Z
UID:3178-1768582800-1768590000@holisticwellnessanddetox.com
SUMMARY:How To Get Back to Your Athentic Self
DESCRIPTION:Meet Author Laurie Holmes\n\nPlease join Author and Guide Laurie Holmes as she shares a simple understanding that was able to destroy a myth she had about herself… \n\n\nThat allowed her to write her Spiritual story…And get it published!! Her story has the power to transform our negative core beliefs into the freedom to be our own authentic voice that can create whatever our hearts truly desire \n\n\n\nAuthor: Laurie Holmes\nSign up for this event and receive a copy of my Spiritual story and see firsthand the understanding that set me FREE to BE… ME!
URL:https://holisticwellnessanddetox.com/event/becoming-human-meet-a-real-life-angel-her-story-book-included/
LOCATION:Holistic Wellness Center\, 167 C Bluffton Road\, Bluffton\, SC\, 29910
ATTACH;FMTTYPE=image/jpeg:https://holisticwellnessanddetox.com/wp-content/uploads/2026/01/Laurie-Class.jpg
ORGANIZER;CN="Holistic Wellness & Detox Team":MAILTO:holisticwellnessanddetox@gmail.com
END:VEVENT
END:VCALENDAR