BEGIN:VCALENDAR
VERSION:2.0
PRODID:-// - ECPv6.15.16//NONSGML v1.0//EN
CALSCALE:GREGORIAN
METHOD:PUBLISH
X-ORIGINAL-URL:https://holisticwellnessanddetox.com
X-WR-CALDESC:Events for 
REFRESH-INTERVAL;VALUE=DURATION:PT1H
X-Robots-Tag:noindex
X-PUBLISHED-TTL:PT1H
BEGIN:VTIMEZONE
TZID:UTC
BEGIN:STANDARD
TZOFFSETFROM:+0000
TZOFFSETTO:+0000
TZNAME:UTC
DTSTART:20250101T000000
END:STANDARD
END:VTIMEZONE
BEGIN:VEVENT
DTSTART;TZID=UTC:20260225T180000
DTEND;TZID=UTC:20260225T200000
DTSTAMP:20260424T185027
CREATED:20260102T195228Z
LAST-MODIFIED:20260325T160918Z
UID:3370-1772042400-1772049600@holisticwellnessanddetox.com
SUMMARY:EAST & WEST:The Real & The Mystical Ways of Meditation: with Shashi Ph.D. & Meredith MS.BCPP.
DESCRIPTION:The Real & The Mystical Ways of Meditation: Where everyday moments open into presence\, wonder and Enlightenment.\nDear Beautiful Seekers\, \nYou are warmly invited to our next East Meets West: The Real & The Mystical Meditation Workshop \nWednesday\, March 25\n6:00 PM – 8:00 PM\nHolistic Wellness & Detox Center\n167 Bluffton Road\, Bluffton\, SC 29909 \nDuring this gathering we will explore both the practical and the mystical aspects of meditation: \nThe Real — with Shashi \n\nConscious breathing techniques\nWitness consciousness\n“Who am I?” self-inquiry\n\nThe Mystical — with Meredith \n\nYoga Nidra (guided lying-down meditation)\nEmotional regulation practices\nDiscovering the sacred within everyday life\n\nPlease bring a blanket and pillow for Yoga Nidra if you wish… and feel free to bring a friend! \nEnergy Exchange: $75 \nPayment Options\n• Zelle: Meredith Narissi – 516-456-7665\n• Venmo: @Meredith-Narissi\n• Or Contact Meredith for more payment options \nWe look forward to gathering with you. \n \nShashi Kant\, Ph\,D\nHe grew up in India\, immersed in a rich religious tradition. His academic journey included postdoctoral research at Yale and later as a Professor at Penn State University.  He experienced a transformational shift that rekindled his curiosity about traditional Indian knowledge. He began exploring and teaching diverse meditative practices\, seeking to understand their deeper meaning. \nShashi Kant Cooduvalli 814-883-5572  shashi323@gmail.com\n\nMeredith Zelman Narissi MS\,BCPP\, founder of Meredith’s Healing Arts…Enlightened Wellness\, is a Board-Certified Polarity Therapist\, Holistic Spiritual Therapist\, Kundalini Reiki Master\, Meditation/Yoga/Dance Teacher\, and Author of 7 Veils: Mystical Secrets of a Feminine Path to Enlightenment. She holds a double master’s degree fellowship in art and education. Her background as a professional dancer and yoga teacher brings a deep somatic perception to her healing practice of over 25 years. She has presented workshops in dance\, fitness and holistic healing\, nationally and internationally. She offers one-on-one sessions\, workshops  and presentations. She works at Holistic Wellness and Detox Center in Bluffton. You can reach Meredith: 516-456-7665 MeredihsHealingArts.com MeredithNarissi@gmail.com
URL:https://holisticwellnessanddetox.com/event/east-westthe-real-the-mystical-ways-of-meditation-with-shashi-ph-d-meredith-ms-bcpp/
LOCATION:Holistic Wellness Center\, 167 C Bluffton Road\, Bluffton\, SC\, 29910
ATTACH;FMTTYPE=image/jpeg:https://holisticwellnessanddetox.com/wp-content/uploads/2026/01/EASTWEST.jpg
END:VEVENT
END:VCALENDAR