BEGIN:VCALENDAR
VERSION:2.0
PRODID:-// - ECPv6.15.16//NONSGML v1.0//EN
CALSCALE:GREGORIAN
METHOD:PUBLISH
X-ORIGINAL-URL:https://holisticwellnessanddetox.com
X-WR-CALDESC:Events for 
REFRESH-INTERVAL;VALUE=DURATION:PT1H
X-Robots-Tag:noindex
X-PUBLISHED-TTL:PT1H
BEGIN:VTIMEZONE
TZID:UTC
BEGIN:STANDARD
TZOFFSETFROM:+0000
TZOFFSETTO:+0000
TZNAME:UTC
DTSTART:20250101T000000
END:STANDARD
END:VTIMEZONE
BEGIN:VEVENT
DTSTART;TZID=UTC:20260421T183000
DTEND;TZID=UTC:20260421T194500
DTSTAMP:20260424T170803
CREATED:20260324T161416Z
LAST-MODIFIED:20260402T203203Z
UID:3843-1776796200-1776800700@holisticwellnessanddetox.com
SUMMARY:Sound Healing Journey by Sol Balance
DESCRIPTION:Sound Healing Journey\nwith Beth Donovan\, Owner of Sol Balance \nJoin Beth Donovan for a guided sound healing journey designed to nurture the body\, calm the mind\, and support the soul. \nBeth is a certified Angelic Reiki Master Teacher\, Shamanic Healing Practitioner\, and SoulMonic™ Sound Healing graduate. Through her extensive training and over 8 years of experience\, Beth creates a space that is gentle\, peaceful\, and easy to relax into while experiencing the healing vibrations of sound. \nDuring this immersive sound healing experience\, Beth uses instruments such as the gong\, Tibetan bowls\, quartz crystal bowls\, and chimes. These instruments produce healing frequencies that help the nervous system relax\, allowing the body and intuitive systems to shift into a restorative and healing state. \nFor your comfort\, each guest will be provided with a 3-inch thick memory foam mat\, soft blanket\, and pillow so you can fully relax and enjoy the experience. \nLocation:Holistic Wellness and Detox Center – Aura Studio – 167C Bluffton Rd\, Bluffton\, SC \nSeating is limited to 8 guests.Energy Exchange: $44 (Cash or Zelle) \nTo reserve your spot\, please text Beth at 843-505-8184 to hold your seat.
URL:https://holisticwellnessanddetox.com/event/sound-healing-journey-by-sol-balance/
LOCATION:Holistic Wellness Center\, 167 C Bluffton Road\, Bluffton\, SC\, 29910
ATTACH;FMTTYPE=image/png:https://holisticwellnessanddetox.com/wp-content/uploads/2026/03/Beth-Sound-Bath.png
ORGANIZER;CN="Beth Donovan":MAILTO:solbalance69@gmail.com
END:VEVENT
END:VCALENDAR