BEGIN:VCALENDAR
VERSION:2.0
PRODID:-// - ECPv6.15.16//NONSGML v1.0//EN
CALSCALE:GREGORIAN
METHOD:PUBLISH
X-ORIGINAL-URL:https://holisticwellnessanddetox.com
X-WR-CALDESC:Events for 
REFRESH-INTERVAL;VALUE=DURATION:PT1H
X-Robots-Tag:noindex
X-PUBLISHED-TTL:PT1H
BEGIN:VTIMEZONE
TZID:UTC
BEGIN:STANDARD
TZOFFSETFROM:+0000
TZOFFSETTO:+0000
TZNAME:UTC
DTSTART:20230101T000000
END:STANDARD
END:VTIMEZONE
BEGIN:VEVENT
DTSTART;TZID=UTC:20240820T100000
DTEND;TZID=UTC:20240820T110000
DTSTAMP:20260425T152932
CREATED:20240815T161031Z
LAST-MODIFIED:20240815T162324Z
UID:1372-1724148000-1724151600@holisticwellnessanddetox.com
SUMMARY:Sound Bath with Amy Spadafora
DESCRIPTION:Join Amy Spadafora on Tuesday\, August 20th 10:00-11:00am\n@Holistic Wellness Detox Center – 167C Bluffton Road \nBack to School Special $35 – 10 spots available \nCash\, Venmo @AmySpadafora \n  \nBring a mat\, comfy pillow\, blanket\, & eye pillow \n  \nText Amy to reserve your spot 843-301-4372 \nYou can also register on this page! \n  \nScheduling regular sound baths as part of your daily self-care regimen\nis one way you will receive a consistent restoration and replenishment of the nervous system with healing sounds that directly impacts all levels of your being – your mind\, your body\, and your spirit. Here are just a few ways sound baths can benefit you and your family. \n\nCan restore peace and harmony on all levels – Physically\, Emotionally\, Mentally\, and Spiritually\nCan help restore proper sleep patterns\nInspire creativity\nHelps to resolve emotional blockages\nCan relieve anxiety and depression\nHelpful in accessing higher states of consciousness
URL:https://holisticwellnessanddetox.com/event/sound-bath-with-amy-spadafora-2/
LOCATION:Holistic Wellness Center\, 167 C Bluffton Road\, Bluffton\, SC\, 29910
ORGANIZER;CN="Amy Spadafora":MAILTO:amy@amyspadafora.com
END:VEVENT
BEGIN:VEVENT
DTSTART;TZID=UTC:20240818T160000
DTEND;TZID=UTC:20240818T173000
DTSTAMP:20260425T152932
CREATED:20240815T160453Z
LAST-MODIFIED:20240815T162400Z
UID:1369-1723996800-1724002200@holisticwellnessanddetox.com
SUMMARY:Sound Bath with Amy Spadafora
DESCRIPTION:Join Amy Spadafora on Sunday\, August 18th 4:00-5:30pm\n@Holistic Wellness Detox Center – 167C Bluffton Road \n$45 – 8 spots available \nCash\, Venmo @AmySpadafora \n  \nBring a mat\, comfy pillow\, blanket\, & eye pillow \n  \nText Amy to reserve your spot 843-301-4372 \nYou can also register on this page! \n  \nScheduling regular sound baths as part of your daily self-care regimen\nis one way you will receive a consistent restoration and replenishment of the nervous system with healing sounds that directly impacts all levels of your being – your mind\, your body\, and your spirit. Here are just a few ways sound baths can benefit you and your family. \n\nCan restore peace and harmony on all levels – Physically\, Emotionally\, Mentally\, and Spiritually\nCan help restore proper sleep patterns\nInspire creativity\nHelps to resolve emotional blockages\nCan relieve anxiety and depression\nHelpful in accessing higher states of consciousness\n\n 
URL:https://holisticwellnessanddetox.com/event/sound-bath-with-amy-spadafora/
LOCATION:Holistic Wellness Center\, 167 C Bluffton Road\, Bluffton\, SC\, 29910
ATTACH;FMTTYPE=image/jpeg:https://holisticwellnessanddetox.com/wp-content/uploads/2024/08/amy-healing-image-1-1-scaled.jpg
ORGANIZER;CN="Amy Spadafora":MAILTO:amy@amyspadafora.com
END:VEVENT
BEGIN:VEVENT
DTSTART;TZID=UTC:20240816T180000
DTEND;TZID=UTC:20240816T193000
DTSTAMP:20260425T152932
CREATED:20240708T185439Z
LAST-MODIFIED:20240808T210249Z
UID:1171-1723831200-1723836600@holisticwellnessanddetox.com
SUMMARY:Awaken to your Dreams
DESCRIPTION:A Fun\, Interactive & Inspiring Workshop \nAre you Curious about Dreams…Join Meredith Narissi\, MS\, BCPP \nFriday August 16th    6:00PM-7:30 PM \n• Origin\, Significance & Meaning of Dreams\n• Famous Dreams that Changed the World\n• Step-by-step Ways to Interpret Dreams\n• Analysis\, Sharing of YOUR Dreams \nTo Register/Call or text Meredith at 516-456-7665 \nOr\, you can register by paying your $45 energy exchange via Venmo @Meredith-Narissi  (Make sure to type Dreams Event so she knows which class this is for:)  \nYou may also call the Holistic Wellness and Detox Center at 843-707-7033  \n  \n \nMeredith Narissi\, M.S.\, BCPP\, of Meredith’s Healing Arts…Enlightened Wellness\, is a Holistic Therapist\, Energy Healer\, dance/yoga/meditation teacher\, and Author of 7 Veils: Mystical Secrets of\na Feminine Path to Enlightenment. You are invited to join her in your quest toward enlightened wellness.\n516-456-7665 MeredithsHealingArts.com
URL:https://holisticwellnessanddetox.com/event/awaken-to-your-dreams/
LOCATION:Holistic Wellness Center\, 167 C Bluffton Road\, Bluffton\, SC\, 29910
ATTACH;FMTTYPE=image/jpeg:https://holisticwellnessanddetox.com/wp-content/uploads/2024/07/Meredith-Dream-Workshop.jpg
END:VEVENT
BEGIN:VEVENT
DTSTART;TZID=UTC:20240705T180000
DTEND;TZID=UTC:20240705T191500
DTSTAMP:20260425T152932
CREATED:20240701T190206Z
LAST-MODIFIED:20240702T161638Z
UID:1116-1720202400-1720206900@holisticwellnessanddetox.com
SUMMARY:New Moon Sound Bath
DESCRIPTION:Friday\, July 5th  6:00-7:15pm \n$45 – 11 spots are available \nBring a mat\, comfy pillow\, blanket\, & eye pillow. \nThe intention of this sound bath is to honor the new moon and its energy of planting seeds to enhance the fullness of our true essence. \nTo make a reservation call or text Amy 843-301-4372 OR email amy@amyspadafora.com.
URL:https://holisticwellnessanddetox.com/event/new-moon-sound-bath/
LOCATION:Holistic Wellness Center\, 167 C Bluffton Road\, Bluffton\, SC\, 29910
ATTACH;FMTTYPE=image/jpeg:https://holisticwellnessanddetox.com/wp-content/uploads/2024/07/amy-healing-image-1-scaled.jpg
ORGANIZER;CN="Amy Spadafora":MAILTO:amy@amyspadafora.com
END:VEVENT
END:VCALENDAR