BEGIN:VCALENDAR
VERSION:2.0
PRODID:-// - ECPv6.15.16//NONSGML v1.0//EN
CALSCALE:GREGORIAN
METHOD:PUBLISH
X-ORIGINAL-URL:https://holisticwellnessanddetox.com
X-WR-CALDESC:Events for 
REFRESH-INTERVAL;VALUE=DURATION:PT1H
X-Robots-Tag:noindex
X-PUBLISHED-TTL:PT1H
BEGIN:VTIMEZONE
TZID:UTC
BEGIN:STANDARD
TZOFFSETFROM:+0000
TZOFFSETTO:+0000
TZNAME:UTC
DTSTART:20250101T000000
END:STANDARD
END:VTIMEZONE
BEGIN:VEVENT
DTSTART;TZID=UTC:20260516T110000
DTEND;TZID=UTC:20260516T130000
DTSTAMP:20260425T105254
CREATED:20260416T181402Z
LAST-MODIFIED:20260416T181620Z
UID:3865-1778929200-1778936400@holisticwellnessanddetox.com
SUMMARY:The Secret Healing Power of Forgiveness
DESCRIPTION:It’s time to release what’s been holding your heart hostage\nJoin Meredith and Hollie for a powerful hear-centered healing experience designed to gently guide you into forgiveness\, clarity and inner peace. \nIn this transformative series we will: \n✨ Learn a true and liberating process of forgiveness✨ Gently release deep-rooted resentments and emotional blocks✨ Cultivate deeper compassion for yourself and others✨ Reconnect with your inner peace and authentic self \nAbout Your Guides \nMeredith Narissi is a compassionate guide in mind-body healing\, known for creating safe\, nurturing spaces for emotional release and personal transformation. With a heart-centered approach\, she helps individuals reconnect to their inner wisdom\, cultivate self-compassion\, and move through life with greater clarity and peace. \nHollie Udvornocky is a Holistic Wellness Practitioner\, Energy Healer\, and founder of a wellness center devoted to mind\, body\, and soul alignment. Through her unique blend of functional nutrition\, energy balancing\, and intuitive guidance\, Hollie supports clients in uncovering the deeper layers behind physical and emotional imbalances—empowering them to reconnect with their highest\, most aligned selves.
URL:https://holisticwellnessanddetox.com/event/the-secret-healing-power-of-forgiveness/
LOCATION:Holistic Wellness Center\, 167 C Bluffton Road\, Bluffton\, SC\, 29910
ATTACH;FMTTYPE=image/jpeg:https://holisticwellnessanddetox.com/wp-content/uploads/2026/04/Foregiveness-FB-Post.jpg
END:VEVENT
END:VCALENDAR